BEGIN:VCALENDAR
VERSION:2.0
PRODID:-//HervormdGrootAmmers - ECPv6.11.2//NONSGML v1.0//EN
CALSCALE:GREGORIAN
METHOD:PUBLISH
X-ORIGINAL-URL:https://www.hervormdgrootammers.nl
X-WR-CALDESC:Evenementen voor HervormdGrootAmmers
REFRESH-INTERVAL;VALUE=DURATION:PT1H
X-Robots-Tag:noindex
X-PUBLISHED-TTL:PT1H
BEGIN:VTIMEZONE
TZID:Europe/Paris
BEGIN:DAYLIGHT
TZOFFSETFROM:+0100
TZOFFSETTO:+0200
TZNAME:CEST
DTSTART:20260329T010000
END:DAYLIGHT
BEGIN:STANDARD
TZOFFSETFROM:+0200
TZOFFSETTO:+0100
TZNAME:CET
DTSTART:20261025T010000
END:STANDARD
END:VTIMEZONE
BEGIN:VEVENT
DTSTART;TZID=Europe/Paris:20260301T093000
DTEND;TZID=Europe/Paris:20260301T110000
DTSTAMP:20260421T122122
CREATED:20260130T125606Z
LAST-MODIFIED:20260130T125606Z
UID:6387-1772357400-1772362800@www.hervormdgrootammers.nl
SUMMARY:Kerkdienst | Ds. K. Hak (Voorbereiding HA)
DESCRIPTION:
URL:https://www.hervormdgrootammers.nl/agenda/kerkdienst-ds-k-hak-voorbereiding-ha/
LOCATION:Kerk\, Kerkstraat 8\, Groot-Ammers\, 2964 BV\, Nederland
CATEGORIES:Kerkdiensten
END:VEVENT
BEGIN:VEVENT
DTSTART;TZID=Europe/Paris:20260301T183000
DTEND;TZID=Europe/Paris:20260301T200000
DTSTAMP:20260421T122122
CREATED:20260130T125723Z
LAST-MODIFIED:20260130T125723Z
UID:6389-1772389800-1772395200@www.hervormdgrootammers.nl
SUMMARY:Kerkdienst | Ds. J. J. Mulder (Dordrecht)
DESCRIPTION:
URL:https://www.hervormdgrootammers.nl/agenda/kerkdienst-ds-j-j-mulder-dordrecht/
LOCATION:Kerk\, Kerkstraat 8\, Groot-Ammers\, 2964 BV\, Nederland
CATEGORIES:Kerkdiensten
END:VEVENT
BEGIN:VEVENT
DTSTART;TZID=Europe/Paris:20260308T093000
DTEND;TZID=Europe/Paris:20260308T110000
DTSTAMP:20260421T122122
CREATED:20260130T125834Z
LAST-MODIFIED:20260130T125834Z
UID:6391-1772962200-1772967600@www.hervormdgrootammers.nl
SUMMARY:Kerkdienst | Ds. K. Hak (Heilig Avondmaal)
DESCRIPTION:
URL:https://www.hervormdgrootammers.nl/agenda/kerkdienst-ds-k-hak-heilig-avondmaal/
LOCATION:Kerk\, Kerkstraat 8\, Groot-Ammers\, 2964 BV\, Nederland
CATEGORIES:Kerkdiensten
END:VEVENT
BEGIN:VEVENT
DTSTART;TZID=Europe/Paris:20260308T183000
DTEND;TZID=Europe/Paris:20260308T200000
DTSTAMP:20260421T122122
CREATED:20260130T125936Z
LAST-MODIFIED:20260130T125936Z
UID:6393-1772994600-1773000000@www.hervormdgrootammers.nl
SUMMARY:Kerkdienst | Ds. K. Hak (Dankzegging HA)
DESCRIPTION:
URL:https://www.hervormdgrootammers.nl/agenda/kerkdienst-ds-k-hak-dankzegging-ha/
LOCATION:Kerk\, Kerkstraat 8\, Groot-Ammers\, 2964 BV\, Nederland
CATEGORIES:Kerkdiensten
END:VEVENT
BEGIN:VEVENT
DTSTART;TZID=Europe/Paris:20260311T140000
DTEND;TZID=Europe/Paris:20260311T153000
DTSTAMP:20260421T122122
CREATED:20260130T130031Z
LAST-MODIFIED:20260130T130031Z
UID:6395-1773237600-1773243000@www.hervormdgrootammers.nl
SUMMARY:Kerkdienst | Ds. K. Hak (Biddag)
DESCRIPTION:
URL:https://www.hervormdgrootammers.nl/agenda/kerkdienst-ds-k-hak-biddag/
LOCATION:Kerk\, Kerkstraat 8\, Groot-Ammers\, 2964 BV\, Nederland
CATEGORIES:Kerkdiensten
END:VEVENT
BEGIN:VEVENT
DTSTART;TZID=Europe/Paris:20260311T193000
DTEND;TZID=Europe/Paris:20260311T210000
DTSTAMP:20260421T122122
CREATED:20260130T130133Z
LAST-MODIFIED:20260130T130133Z
UID:6397-1773257400-1773262800@www.hervormdgrootammers.nl
SUMMARY:Kerkdienst | Ds. K. Hak (Biddag)
DESCRIPTION:
URL:https://www.hervormdgrootammers.nl/agenda/kerkdienst-ds-k-hak-biddag-2/
LOCATION:Kerk\, Kerkstraat 8\, Groot-Ammers\, 2964 BV\, Nederland
CATEGORIES:Kerkdiensten
END:VEVENT
BEGIN:VEVENT
DTSTART;TZID=Europe/Paris:20260315T093000
DTEND;TZID=Europe/Paris:20260315T110000
DTSTAMP:20260421T122122
CREATED:20260226T143754Z
LAST-MODIFIED:20260226T143754Z
UID:6418-1773567000-1773572400@www.hervormdgrootammers.nl
SUMMARY:Kerkdienst | Ds. M.J. Tekelenburg (Woerden)
DESCRIPTION:
URL:https://www.hervormdgrootammers.nl/agenda/kerkdienst-ds-m-j-tekelenburg-woerden/
LOCATION:Kerk\, Kerkstraat 8\, Groot-Ammers\, 2964 BV\, Nederland
CATEGORIES:Kerkdiensten
END:VEVENT
BEGIN:VEVENT
DTSTART;TZID=Europe/Paris:20260315T183000
DTEND;TZID=Europe/Paris:20260315T200000
DTSTAMP:20260421T122122
CREATED:20260226T143839Z
LAST-MODIFIED:20260226T143839Z
UID:6420-1773599400-1773604800@www.hervormdgrootammers.nl
SUMMARY:Kerkdienst | Ds. A. Bloemendal (Barneveld)
DESCRIPTION:
URL:https://www.hervormdgrootammers.nl/agenda/kerkdienst-ds-a-bloemendal-barneveld/
LOCATION:Kerk\, Kerkstraat 8\, Groot-Ammers\, 2964 BV\, Nederland
CATEGORIES:Kerkdiensten
END:VEVENT
BEGIN:VEVENT
DTSTART;TZID=Europe/Paris:20260322T093000
DTEND;TZID=Europe/Paris:20260322T110000
DTSTAMP:20260421T122122
CREATED:20260226T143913Z
LAST-MODIFIED:20260226T143913Z
UID:6422-1774171800-1774177200@www.hervormdgrootammers.nl
SUMMARY:Kerkdienst | Ds. K. Hak
DESCRIPTION:
URL:https://www.hervormdgrootammers.nl/agenda/kerkdienst-ds-k-hak/
LOCATION:Kerk\, Kerkstraat 8\, Groot-Ammers\, 2964 BV\, Nederland
CATEGORIES:Kerkdiensten
END:VEVENT
BEGIN:VEVENT
DTSTART;TZID=Europe/Paris:20260322T183000
DTEND;TZID=Europe/Paris:20260322T200000
DTSTAMP:20260421T122122
CREATED:20260226T144010Z
LAST-MODIFIED:20260226T144010Z
UID:6424-1774204200-1774209600@www.hervormdgrootammers.nl
SUMMARY:Kerkdienst | Ds. J.B. ten Hove (Nijkerk)
DESCRIPTION:
URL:https://www.hervormdgrootammers.nl/agenda/kerkdienst-ds-j-b-ten-hove-nijkerk/
LOCATION:Kerk\, Kerkstraat 8\, Groot-Ammers\, 2964 BV\, Nederland
CATEGORIES:Kerkdiensten
END:VEVENT
BEGIN:VEVENT
DTSTART;TZID=Europe/Paris:20260329T093000
DTEND;TZID=Europe/Paris:20260329T110000
DTSTAMP:20260421T122122
CREATED:20260226T144037Z
LAST-MODIFIED:20260226T144037Z
UID:6426-1774776600-1774782000@www.hervormdgrootammers.nl
SUMMARY:Kerkdienst | Ds. K. Hak
DESCRIPTION:
URL:https://www.hervormdgrootammers.nl/agenda/kerkdienst-ds-k-hak-2/
LOCATION:Kerk\, Kerkstraat 8\, Groot-Ammers\, 2964 BV\, Nederland
CATEGORIES:Kerkdiensten
END:VEVENT
BEGIN:VEVENT
DTSTART;TZID=Europe/Paris:20260329T183000
DTEND;TZID=Europe/Paris:20260329T200000
DTSTAMP:20260421T122122
CREATED:20260226T144216Z
LAST-MODIFIED:20260226T144216Z
UID:6428-1774809000-1774814400@www.hervormdgrootammers.nl
SUMMARY:Kerkdienst | Ds. P.D. Teeuw (Sliedrecht)
DESCRIPTION:
URL:https://www.hervormdgrootammers.nl/agenda/kerkdienst-ds-p-d-teeuw-sliedrecht/
LOCATION:Kerk\, Kerkstraat 8\, Groot-Ammers\, 2964 BV\, Nederland
CATEGORIES:Kerkdiensten
END:VEVENT
END:VCALENDAR