BEGIN:VCALENDAR
VERSION:2.0
PRODID:-//HervormdGrootAmmers - ECPv6.11.2//NONSGML v1.0//EN
CALSCALE:GREGORIAN
METHOD:PUBLISH
X-ORIGINAL-URL:https://www.hervormdgrootammers.nl
X-WR-CALDESC:Evenementen voor HervormdGrootAmmers
REFRESH-INTERVAL;VALUE=DURATION:PT1H
X-Robots-Tag:noindex
X-PUBLISHED-TTL:PT1H
BEGIN:VTIMEZONE
TZID:Europe/Paris
BEGIN:DAYLIGHT
TZOFFSETFROM:+0100
TZOFFSETTO:+0200
TZNAME:CEST
DTSTART:20260329T010000
END:DAYLIGHT
BEGIN:STANDARD
TZOFFSETFROM:+0200
TZOFFSETTO:+0100
TZNAME:CET
DTSTART:20261025T010000
END:STANDARD
END:VTIMEZONE
BEGIN:VEVENT
DTSTART;TZID=Europe/Paris:20260406T093000
DTEND;TZID=Europe/Paris:20260406T110000
DTSTAMP:20260419T153431
CREATED:20260301T130758Z
LAST-MODIFIED:20260301T130758Z
UID:6436-1775467800-1775473200@www.hervormdgrootammers.nl
SUMMARY:Kerkdienst | Ds. K. Timmerman (Schoonhoven)
DESCRIPTION:
URL:https://www.hervormdgrootammers.nl/agenda/kerkdienst-ds-k-timmerman-schoonhoven/
LOCATION:Kerk\, Kerkstraat 8\, Groot-Ammers\, 2964 BV\, Nederland
CATEGORIES:Kerkdiensten
END:VEVENT
END:VCALENDAR