BEGIN:VCALENDAR
VERSION:2.0
PRODID:-//HervormdGrootAmmers - ECPv6.11.2//NONSGML v1.0//EN
CALSCALE:GREGORIAN
METHOD:PUBLISH
X-WR-CALNAME:HervormdGrootAmmers
X-ORIGINAL-URL:https://www.hervormdgrootammers.nl
X-WR-CALDESC:Evenementen voor HervormdGrootAmmers
REFRESH-INTERVAL;VALUE=DURATION:PT1H
X-Robots-Tag:noindex
X-PUBLISHED-TTL:PT1H
BEGIN:VTIMEZONE
TZID:Europe/Paris
BEGIN:DAYLIGHT
TZOFFSETFROM:+0100
TZOFFSETTO:+0200
TZNAME:CEST
DTSTART:20260329T010000
END:DAYLIGHT
BEGIN:STANDARD
TZOFFSETFROM:+0200
TZOFFSETTO:+0100
TZNAME:CET
DTSTART:20261025T010000
END:STANDARD
END:VTIMEZONE
BEGIN:VEVENT
DTSTART;TZID=Europe/Paris:20260517T093000
DTEND;TZID=Europe/Paris:20260517T110000
DTSTAMP:20260421T135456
CREATED:20260301T131940Z
LAST-MODIFIED:20260301T131940Z
UID:6460-1779010200-1779015600@www.hervormdgrootammers.nl
SUMMARY:Kerkdienst | Ds. M. Klaassen (Barneveld)
DESCRIPTION:
URL:https://www.hervormdgrootammers.nl/agenda/kerkdienst-ds-m-klaassen-barneveld/
LOCATION:Kerk\, Kerkstraat 8\, Groot-Ammers\, 2964 BV\, Nederland
CATEGORIES:Kerkdiensten
END:VEVENT
BEGIN:VEVENT
DTSTART;TZID=Europe/Paris:20260517T183000
DTEND;TZID=Europe/Paris:20260517T200000
DTSTAMP:20260421T135456
CREATED:20260301T132011Z
LAST-MODIFIED:20260301T132011Z
UID:6462-1779042600-1779048000@www.hervormdgrootammers.nl
SUMMARY:Kerkdienst | Ds. K. Hak
DESCRIPTION:
URL:https://www.hervormdgrootammers.nl/agenda/kerkdienst-ds-k-hak-7/
LOCATION:Kerk\, Kerkstraat 8\, Groot-Ammers\, 2964 BV\, Nederland
CATEGORIES:Kerkdiensten
END:VEVENT
END:VCALENDAR