BEGIN:VCALENDAR
VERSION:2.0
PRODID:-//HervormdGrootAmmers - ECPv6.11.2//NONSGML v1.0//EN
CALSCALE:GREGORIAN
METHOD:PUBLISH
X-ORIGINAL-URL:https://www.hervormdgrootammers.nl
X-WR-CALDESC:Evenementen voor HervormdGrootAmmers
REFRESH-INTERVAL;VALUE=DURATION:PT1H
X-Robots-Tag:noindex
X-PUBLISHED-TTL:PT1H
BEGIN:VTIMEZONE
TZID:Europe/Paris
BEGIN:DAYLIGHT
TZOFFSETFROM:+0100
TZOFFSETTO:+0200
TZNAME:CEST
DTSTART:20260329T010000
END:DAYLIGHT
BEGIN:STANDARD
TZOFFSETFROM:+0200
TZOFFSETTO:+0100
TZNAME:CET
DTSTART:20261025T010000
END:STANDARD
END:VTIMEZONE
BEGIN:VEVENT
DTSTART;TZID=Europe/Paris:20260426T093000
DTEND;TZID=Europe/Paris:20260426T110000
DTSTAMP:20260420T022534
CREATED:20260301T131445Z
LAST-MODIFIED:20260301T131445Z
UID:6446-1777195800-1777201200@www.hervormdgrootammers.nl
SUMMARY:Kerkdienst | Ds. J.M. Molenaar (Zoetermeer)
DESCRIPTION:
URL:https://www.hervormdgrootammers.nl/agenda/kerkdienst-ds-j-m-molenaar-zoetermeer/
LOCATION:Kerk\, Kerkstraat 8\, Groot-Ammers\, 2964 BV\, Nederland
CATEGORIES:Kerkdiensten
END:VEVENT
BEGIN:VEVENT
DTSTART;TZID=Europe/Paris:20260426T183000
DTEND;TZID=Europe/Paris:20260426T200000
DTSTAMP:20260420T022534
CREATED:20260301T131528Z
LAST-MODIFIED:20260301T131528Z
UID:6448-1777228200-1777233600@www.hervormdgrootammers.nl
SUMMARY:Kerkdienst | Prop. G. Guijt (Katwijk)
DESCRIPTION:
URL:https://www.hervormdgrootammers.nl/agenda/kerkdienst-prop-g-guijt-katwijk/
LOCATION:Kerk\, Kerkstraat 8\, Groot-Ammers\, 2964 BV\, Nederland
CATEGORIES:Kerkdiensten
END:VEVENT
BEGIN:VEVENT
DTSTART;TZID=Europe/Paris:20260503T093000
DTEND;TZID=Europe/Paris:20260503T110000
DTSTAMP:20260420T022534
CREATED:20260301T131606Z
LAST-MODIFIED:20260301T131606Z
UID:6450-1777800600-1777806000@www.hervormdgrootammers.nl
SUMMARY:Kerkdienst | Ds. K. Hak (Heilige Doop)
DESCRIPTION:
URL:https://www.hervormdgrootammers.nl/agenda/kerkdienst-ds-k-hak-heilige-doop-3/
LOCATION:Kerk\, Kerkstraat 8\, Groot-Ammers\, 2964 BV\, Nederland
CATEGORIES:Kerkdiensten
END:VEVENT
BEGIN:VEVENT
DTSTART;TZID=Europe/Paris:20260503T183000
DTEND;TZID=Europe/Paris:20260503T200000
DTSTAMP:20260420T022534
CREATED:20260301T131712Z
LAST-MODIFIED:20260301T131712Z
UID:6452-1777833000-1777838400@www.hervormdgrootammers.nl
SUMMARY:Kerkdienst | Ds. B.J.P. de Bruin (Middelburg)
DESCRIPTION:
URL:https://www.hervormdgrootammers.nl/agenda/kerkdienst-ds-b-j-p-de-bruin-middelburg/
LOCATION:Kerk\, Kerkstraat 8\, Groot-Ammers\, 2964 BV\, Nederland
CATEGORIES:Kerkdiensten
END:VEVENT
BEGIN:VEVENT
DTSTART;TZID=Europe/Paris:20260510T093000
DTEND;TZID=Europe/Paris:20260510T110000
DTSTAMP:20260420T022534
CREATED:20260301T131742Z
LAST-MODIFIED:20260416T164956Z
UID:6454-1778405400-1778410800@www.hervormdgrootammers.nl
SUMMARY:Kerkdienst | Ds. L.M. Jongejan (Ede; Belijdenisdienst)
DESCRIPTION:
URL:https://www.hervormdgrootammers.nl/agenda/kerkdienst-ds-l-m-jongejan-ede-belijdenisdienst/
LOCATION:Kerk\, Kerkstraat 8\, Groot-Ammers\, 2964 BV\, Nederland
CATEGORIES:Kerkdiensten
END:VEVENT
BEGIN:VEVENT
DTSTART;TZID=Europe/Paris:20260510T183000
DTEND;TZID=Europe/Paris:20260510T200000
DTSTAMP:20260420T022534
CREATED:20260301T131820Z
LAST-MODIFIED:20260416T165057Z
UID:6456-1778437800-1778443200@www.hervormdgrootammers.nl
SUMMARY:Kerkdienst | Ds. G. van Zanden (Katwijk)
DESCRIPTION:
URL:https://www.hervormdgrootammers.nl/agenda/kerkdienst-ds-g-van-zanden-katwijk/
LOCATION:Kerk\, Kerkstraat 8\, Groot-Ammers\, 2964 BV\, Nederland
CATEGORIES:Kerkdiensten
END:VEVENT
BEGIN:VEVENT
DTSTART;TZID=Europe/Paris:20260514T093000
DTEND;TZID=Europe/Paris:20260514T110000
DTSTAMP:20260420T022534
CREATED:20260301T131858Z
LAST-MODIFIED:20260301T131858Z
UID:6458-1778751000-1778756400@www.hervormdgrootammers.nl
SUMMARY:Kerkdienst | Ds. K. Hak (Hemelvaartsdag)
DESCRIPTION:
URL:https://www.hervormdgrootammers.nl/agenda/kerkdienst-ds-k-hak-hemelvaartsdag/
LOCATION:Kerk\, Kerkstraat 8\, Groot-Ammers\, 2964 BV\, Nederland
CATEGORIES:Kerkdiensten
END:VEVENT
BEGIN:VEVENT
DTSTART;TZID=Europe/Paris:20260517T093000
DTEND;TZID=Europe/Paris:20260517T110000
DTSTAMP:20260420T022534
CREATED:20260301T131940Z
LAST-MODIFIED:20260301T131940Z
UID:6460-1779010200-1779015600@www.hervormdgrootammers.nl
SUMMARY:Kerkdienst | Ds. M. Klaassen (Barneveld)
DESCRIPTION:
URL:https://www.hervormdgrootammers.nl/agenda/kerkdienst-ds-m-klaassen-barneveld/
LOCATION:Kerk\, Kerkstraat 8\, Groot-Ammers\, 2964 BV\, Nederland
CATEGORIES:Kerkdiensten
END:VEVENT
BEGIN:VEVENT
DTSTART;TZID=Europe/Paris:20260517T183000
DTEND;TZID=Europe/Paris:20260517T200000
DTSTAMP:20260420T022534
CREATED:20260301T132011Z
LAST-MODIFIED:20260301T132011Z
UID:6462-1779042600-1779048000@www.hervormdgrootammers.nl
SUMMARY:Kerkdienst | Ds. K. Hak
DESCRIPTION:
URL:https://www.hervormdgrootammers.nl/agenda/kerkdienst-ds-k-hak-7/
LOCATION:Kerk\, Kerkstraat 8\, Groot-Ammers\, 2964 BV\, Nederland
CATEGORIES:Kerkdiensten
END:VEVENT
BEGIN:VEVENT
DTSTART;TZID=Europe/Paris:20260524T093000
DTEND;TZID=Europe/Paris:20260524T110000
DTSTAMP:20260420T022534
CREATED:20260301T132053Z
LAST-MODIFIED:20260301T132053Z
UID:6464-1779615000-1779620400@www.hervormdgrootammers.nl
SUMMARY:Kerkdienst | Ds. K. Hak (1e Pinksterdag)
DESCRIPTION:
URL:https://www.hervormdgrootammers.nl/agenda/kerkdienst-ds-k-hak-1e-pinksterdag/
LOCATION:Kerk\, Kerkstraat 8\, Groot-Ammers\, 2964 BV\, Nederland
CATEGORIES:Kerkdiensten
END:VEVENT
BEGIN:VEVENT
DTSTART;TZID=Europe/Paris:20260524T183000
DTEND;TZID=Europe/Paris:20260524T200000
DTSTAMP:20260420T022534
CREATED:20260301T132134Z
LAST-MODIFIED:20260301T132134Z
UID:6466-1779647400-1779652800@www.hervormdgrootammers.nl
SUMMARY:Kerkdienst | Ds. D.J.W. Kok (Stolwijk)
DESCRIPTION:
URL:https://www.hervormdgrootammers.nl/agenda/kerkdienst-ds-d-j-w-kok-stolwijk/
LOCATION:Kerk\, Kerkstraat 8\, Groot-Ammers\, 2964 BV\, Nederland
CATEGORIES:Kerkdiensten
END:VEVENT
BEGIN:VEVENT
DTSTART;TZID=Europe/Paris:20261011T183000
DTEND;TZID=Europe/Paris:20261011T200000
DTSTAMP:20260420T022534
CREATED:20260416T173130Z
LAST-MODIFIED:20260416T173130Z
UID:6492-1791743400-1791748800@www.hervormdgrootammers.nl
SUMMARY:Kerkdienst | Ds. M. J. Van de Poel (Culemborg)
DESCRIPTION:
URL:https://www.hervormdgrootammers.nl/agenda/kerkdienst-ds-m-j-van-de-poel-culemborg/
LOCATION:Kerk\, Kerkstraat 8\, Groot-Ammers\, 2964 BV\, Nederland
CATEGORIES:Kerkdiensten
END:VEVENT
END:VCALENDAR